BEGIN:VCALENDAR
VERSION:2.0
PRODID:-//ECSOP.org - ECPv4.9.8//NONSGML v1.0//EN
CALSCALE:GREGORIAN
METHOD:PUBLISH
X-WR-CALNAME:ECSOP.org
X-ORIGINAL-URL:https://www.ecsop.org
X-WR-CALDESC:Events for ECSOP.org
BEGIN:VTIMEZONE
TZID:UTC
BEGIN:STANDARD
TZOFFSETFROM:+0000
TZOFFSETTO:+0000
TZNAME:UTC
DTSTART:20190101T000000
END:STANDARD
END:VTIMEZONE
BEGIN:VEVENT
DTSTART;TZID="UTC":20190718T160000
DTEND;TZID="UTC":20190718T180000
DTSTAMP:20260421T152533
CREATED:20190104T215540Z
LAST-MODIFIED:20190104T215753Z
UID:109-1563465600-1563472800@www.ecsop.org
SUMMARY:July Meeting
DESCRIPTION:
URL:https://www.ecsop.org/event/july-meeting/
LOCATION:TBD
END:VEVENT
END:VCALENDAR